BEGIN:VCALENDAR
VERSION:2.0
PRODID:https://github.com/derhansen/sf_event_mgt
METHOD:PUBLISH
BEGIN:VEVENT
UID:92-134@www.akh-celle.de
CLASS: PUBLIC
SUMMARY:Vortrag „Luftnot bei Tumorerkrankungen"
DESCRIPTION:Am Mittwoch, dem 29.04.2026, referiert Frau Dr. med. Monika Hei
 lmann zum Thema „Luftnot bei Tumorerkrankungen“. Die Chefärztin der AKH-Pne
 umologie beleuchtet dabei insbesondere die möglichen Ursachen von Atemnot b
 ei einer Krebserkrankung sowie die bestehenden Möglichkeiten zur Linderung.
 \n\nBeginn des Vortrags ist um 17:00 Uhr in den Räumen des Onkologischen Fo
 rums in der Fritzenwiese 117. Ein barrierefreier Zugang ist gewährleistet. 
 Der Eintritt ist frei, jedoch ist eine Anmeldung telefonisch unter 05141/21
 96600 oder per E-Mail an info@onko-forum-celle.de erforderlich.\n\nWeitere 
 Informationen zu den Inhalten der Vortragsreihe finden Sie auf der Website 
 des Onkologischen Forums unter:www.onko-forum-celle.de/vortraege
DTSTAMP:20260420T074950Z
DTSTART:20260429T150000Z
END:VEVENT
END:VCALENDAR
